BEGIN:VCALENDAR
VERSION:2.0
PRODID:-//Racetrack RV - ECPv6.15.20//NONSGML v1.0//EN
CALSCALE:GREGORIAN
METHOD:PUBLISH
X-WR-CALNAME:Racetrack RV
X-ORIGINAL-URL:https://daytonaracetrackrv.com
X-WR-CALDESC:Events for Racetrack RV
REFRESH-INTERVAL;VALUE=DURATION:PT1H
X-Robots-Tag:noindex
X-PUBLISHED-TTL:PT1H
BEGIN:VTIMEZONE
TZID:UTC
BEGIN:STANDARD
TZOFFSETFROM:+0000
TZOFFSETTO:+0000
TZNAME:UTC
DTSTART:20250101T000000
END:STANDARD
END:VTIMEZONE
BEGIN:VEVENT
DTSTART;VALUE=DATE:20260507
DTEND;VALUE=DATE:20260511
DTSTAMP:20260422T132616
CREATED:20240806T195528Z
LAST-MODIFIED:20251208T204943Z
UID:143-1778112000-1778457599@daytonaracetrackrv.com
SUMMARY:Welcome to Rockville 2026
DESCRIPTION:Rockville is a 3 night minimum.\nFollowing a record-breaking year\, 2025 was an absolute beast\, with over 200k of you raging together at the LARGEST Rock Festival in North America. If you thought that was off the charts\, just wait until you see what we’ve got lined up. We’re turning up the volume to make 2026 the biggest party of the year. Mark your calendars. Welcome to Rockville returns May 7-10\, 2026. Make your escape to DAYTONA where the music is loud\, the energy is high\, and the party is non-stop. \n\n \nBook Your Site
URL:https://daytonaracetrackrv.com/event/rockville-2025/
END:VEVENT
BEGIN:VEVENT
DTSTART;VALUE=DATE:20261014
DTEND;VALUE=DATE:20261019
DTSTAMP:20260422T132616
CREATED:20240730T183059Z
LAST-MODIFIED:20251208T204537Z
UID:128-1791936000-1792367999@daytonaracetrackrv.com
SUMMARY:Biketoberfest 2026
DESCRIPTION:Biketoberfest is a 3 night minimum. \nJoin us in the fall in Daytona Beach as we celebrate a full-throttle lifestyle born on two wheels. Motorcycle enthusiasts come together each year to enjoy beautiful Florida weather\, live music\, motorcycle racing at Daytona International Speedway\, and miles of scenic rides along famous A1A\, historic Main Street or the scenic Loop during this four-day rally. Come experience the Southeast’s best motorcycle rally which takes place at venues and businesses throughout the area and features music\, motorcycle shows\, custom bike builds and the industry’s top vendors. All roads lead to this rally. Biketoberfest.org is your official source for information. \n\n\nBook Your Site
URL:https://daytonaracetrackrv.com/event/biketoberfest-2026/
END:VEVENT
BEGIN:VEVENT
DTSTART;VALUE=DATE:20261125
DTEND;VALUE=DATE:20261130
DTSTAMP:20260422T132616
CREATED:20240730T183345Z
LAST-MODIFIED:20251208T204314Z
UID:133-1795564800-1795996799@daytonaracetrackrv.com
SUMMARY:Turkey Rod Run 2026
DESCRIPTION:Turkey Rod Run is a 3 night minimum. \nSHOW CARS\, CAR CORRAL\, SWAP MEET\, ARTS & FASHION \nBook Site Now
URL:https://daytonaracetrackrv.com/event/turkey-rod-run-2025/
LOCATION:Daytona Turkey Rod Run
END:VEVENT
BEGIN:VEVENT
DTSTART;VALUE=DATE:20270128
DTEND;VALUE=DATE:20270202
DTSTAMP:20260422T132616
CREATED:20240804T195034Z
LAST-MODIFIED:20260313T195511Z
UID:137-1801094400-1801526399@daytonaracetrackrv.com
SUMMARY:Rolex 2027
DESCRIPTION:Rolex 24 Hour is a 3 night minimum.\nDaytona International Speedway will host the IMSA WeatherTech SportsCar Championship’s season opening\, twice-around-the-clock Rolex 24 At DAYTONA on Jan. 30 – 31 The full event weekend will begin on Thursday\, Jan. 28 and feature the Michelin Pilot Challenge season opening BMW M Endurance Challenge on Friday\, Jan. 26\, as well as various practice and qualifying sessions throughout the multi-day event. The weekend will conclude with the historic Rolex 24\, where drivers and cars from four different classes will tackle the 3.56-mile road course under both sunshine and stars. \n\nBook Your Site
URL:https://daytonaracetrackrv.com/event/rolex/
END:VEVENT
BEGIN:VEVENT
DTSTART;VALUE=DATE:20270217
DTEND;VALUE=DATE:20270223
DTSTAMP:20260422T132616
CREATED:20240806T195428Z
LAST-MODIFIED:20260313T195212Z
UID:139-1802822400-1803340799@daytonaracetrackrv.com
SUMMARY:Daytona 500 2027
DESCRIPTION:Daytona 500 is a 5 night minimum.\n \n\n\nBook Your Site
URL:https://daytonaracetrackrv.com/event/daytona-500-2025/
END:VEVENT
BEGIN:VEVENT
DTSTART;VALUE=DATE:20270305
DTEND;VALUE=DATE:20270315
DTSTAMP:20260422T132616
CREATED:20240806T195501Z
LAST-MODIFIED:20260313T195111Z
UID:141-1804204800-1805068799@daytonaracetrackrv.com
SUMMARY:Bike Week 2027
DESCRIPTION:Bike Week is a 3 night minimum.\nBike Week is a 10-day motorcycle rally. Motorcycle enthusiasts are invited to enjoy our Spring weather\, wide open beaches and parks\, outdoor dining\, and scenic rides throughout the Daytona Beach area and Volusia County. \n\nBook Your Site
URL:https://daytonaracetrackrv.com/event/bike-week-2025/
END:VEVENT
END:VCALENDAR